BEGIN:VCALENDAR
VERSION:2.0
PRODID:-//PingPongPlus Puchheim - ECPv6.15.20//NONSGML v1.0//EN
CALSCALE:GREGORIAN
METHOD:PUBLISH
X-WR-CALNAME:PingPongPlus Puchheim
X-ORIGINAL-URL:https://pingpongplus-puchheim.de
X-WR-CALDESC:Veranstaltungen für PingPongPlus Puchheim
REFRESH-INTERVAL;VALUE=DURATION:PT1H
X-Robots-Tag:noindex
X-PUBLISHED-TTL:PT1H
BEGIN:VTIMEZONE
TZID:Europe/Berlin
BEGIN:DAYLIGHT
TZOFFSETFROM:+0100
TZOFFSETTO:+0200
TZNAME:CEST
DTSTART:20250330T010000
END:DAYLIGHT
BEGIN:STANDARD
TZOFFSETFROM:+0200
TZOFFSETTO:+0100
TZNAME:CET
DTSTART:20251026T010000
END:STANDARD
BEGIN:DAYLIGHT
TZOFFSETFROM:+0100
TZOFFSETTO:+0200
TZNAME:CEST
DTSTART:20260329T010000
END:DAYLIGHT
BEGIN:STANDARD
TZOFFSETFROM:+0200
TZOFFSETTO:+0100
TZNAME:CET
DTSTART:20261025T010000
END:STANDARD
BEGIN:DAYLIGHT
TZOFFSETFROM:+0100
TZOFFSETTO:+0200
TZNAME:CEST
DTSTART:20270328T010000
END:DAYLIGHT
BEGIN:STANDARD
TZOFFSETFROM:+0200
TZOFFSETTO:+0100
TZNAME:CET
DTSTART:20271031T010000
END:STANDARD
END:VTIMEZONE
BEGIN:VEVENT
DTSTART;TZID=Europe/Berlin:20261024T100000
DTEND;TZID=Europe/Berlin:20261024T170000
DTSTAMP:20260421T051148
CREATED:20260115T115139Z
LAST-MODIFIED:20260216T133655Z
UID:390-1792836000-1792861200@pingpongplus-puchheim.de
SUMMARY:Inklusives Bezirks-Tischtennisturnier Mittelfranken
DESCRIPTION:Teilnahme für: \n\n\n\nEgal ob groß oder klein\, mit oder ohne Behinderung – jeder\, der Spaß am Tischtennis hat\, ist herzlich eingeladen (keine Vereinsmitgliedschaft notwendig) \n\n\n\nBeschreibung: \n\n\n\nInklusive Tischtennisspiele\, Medaillen und Urkunden\, Infos rund um den Tischtennis-Sport und natürlich Leckere Verpflegung \n\n\n\nWir spielen in drei Leistungsgruppen: A – VereinsspielerB – HobbyspielerC – Spielanfänger \n\n\n\nHinweise: \n\n\n\nSportkleidung\, Tischtennisschläger \n\n\n\nInfo: \n\n\n\nDieses Projekt wird aus Mitteln des Bayerischen Staatsministeriums für Familie\, Arbeit und Soziales gefördert \n\n\n\nAnmelden
URL:https://pingpongplus-puchheim.de/event/inklusives-bezirks-tischtennisturnier-mittelfranken/
LOCATION:Bayern
CATEGORIES:Para-Turnier (Breitensport)
ATTACH;FMTTYPE=image/png:https://pingpongplus-puchheim.de/wp-content/uploads/2025/12/bvs100.png
END:VEVENT
END:VCALENDAR