BEGIN:VCALENDAR
VERSION:2.0
PRODID:-//PingPongPlus Puchheim - ECPv6.15.20//NONSGML v1.0//EN
CALSCALE:GREGORIAN
METHOD:PUBLISH
X-WR-CALNAME:PingPongPlus Puchheim
X-ORIGINAL-URL:https://pingpongplus-puchheim.de
X-WR-CALDESC:Veranstaltungen für PingPongPlus Puchheim
REFRESH-INTERVAL;VALUE=DURATION:PT1H
X-Robots-Tag:noindex
X-PUBLISHED-TTL:PT1H
BEGIN:VTIMEZONE
TZID:Europe/Berlin
BEGIN:DAYLIGHT
TZOFFSETFROM:+0100
TZOFFSETTO:+0200
TZNAME:CEST
DTSTART:20250330T010000
END:DAYLIGHT
BEGIN:STANDARD
TZOFFSETFROM:+0200
TZOFFSETTO:+0100
TZNAME:CET
DTSTART:20251026T010000
END:STANDARD
BEGIN:DAYLIGHT
TZOFFSETFROM:+0100
TZOFFSETTO:+0200
TZNAME:CEST
DTSTART:20260329T010000
END:DAYLIGHT
BEGIN:STANDARD
TZOFFSETFROM:+0200
TZOFFSETTO:+0100
TZNAME:CET
DTSTART:20261025T010000
END:STANDARD
BEGIN:DAYLIGHT
TZOFFSETFROM:+0100
TZOFFSETTO:+0200
TZNAME:CEST
DTSTART:20270328T010000
END:DAYLIGHT
BEGIN:STANDARD
TZOFFSETFROM:+0200
TZOFFSETTO:+0100
TZNAME:CET
DTSTART:20271031T010000
END:STANDARD
END:VTIMEZONE
BEGIN:VEVENT
DTSTART;TZID=Europe/Berlin:20261006T180000
DTEND;TZID=Europe/Berlin:20261006T200000
DTSTAMP:20260421T013531
CREATED:20260415T134439Z
LAST-MODIFIED:20260415T135758Z
UID:640-1791309600-1791316800@pingpongplus-puchheim.de
SUMMARY:Inklusiver Lehrgang für Para+ Tischtennis
DESCRIPTION:Der Lehrgang ist insbesondere für Rollstuhl fahrende aus dem Bereich: BreitensportBereich: Leistungssport
URL:https://pingpongplus-puchheim.de/event/inklusiver-lehrgang-fuer-para-tischtennis/
LOCATION:Puchheim – Gerner Platz\, Gerner Platz 2\, Puchheim\, Bayern\, 82178\, Germany
CATEGORIES:Para-Lehrgang
ATTACH;FMTTYPE=image/png:https://pingpongplus-puchheim.de/wp-content/uploads/2026/04/mixlogo.png
END:VEVENT
END:VCALENDAR