BEGIN:VCALENDAR
VERSION:2.0
PRODID:-//PingPongPlus Puchheim - ECPv6.15.20//NONSGML v1.0//EN
CALSCALE:GREGORIAN
METHOD:PUBLISH
X-WR-CALNAME:PingPongPlus Puchheim
X-ORIGINAL-URL:https://pingpongplus-puchheim.de
X-WR-CALDESC:Veranstaltungen für PingPongPlus Puchheim
REFRESH-INTERVAL;VALUE=DURATION:PT1H
X-Robots-Tag:noindex
X-PUBLISHED-TTL:PT1H
BEGIN:VTIMEZONE
TZID:Europe/Berlin
BEGIN:DAYLIGHT
TZOFFSETFROM:+0100
TZOFFSETTO:+0200
TZNAME:CEST
DTSTART:20250330T010000
END:DAYLIGHT
BEGIN:STANDARD
TZOFFSETFROM:+0200
TZOFFSETTO:+0100
TZNAME:CET
DTSTART:20251026T010000
END:STANDARD
BEGIN:DAYLIGHT
TZOFFSETFROM:+0100
TZOFFSETTO:+0200
TZNAME:CEST
DTSTART:20260329T010000
END:DAYLIGHT
BEGIN:STANDARD
TZOFFSETFROM:+0200
TZOFFSETTO:+0100
TZNAME:CET
DTSTART:20261025T010000
END:STANDARD
BEGIN:DAYLIGHT
TZOFFSETFROM:+0100
TZOFFSETTO:+0200
TZNAME:CEST
DTSTART:20270328T010000
END:DAYLIGHT
BEGIN:STANDARD
TZOFFSETFROM:+0200
TZOFFSETTO:+0100
TZNAME:CET
DTSTART:20271031T010000
END:STANDARD
END:VTIMEZONE
BEGIN:VEVENT
DTSTART;TZID=Europe/Berlin:20260425T100000
DTEND;TZID=Europe/Berlin:20260425T123000
DTSTAMP:20260420T183542
CREATED:20260419T153240Z
LAST-MODIFIED:20260419T153246Z
UID:648-1777111200-1777120200@pingpongplus-puchheim.de
SUMMARY:Para+ Sondertraining
DESCRIPTION:Para+ Training in Dachau Tennishalle
URL:https://pingpongplus-puchheim.de/event/para-sondertraining/
LOCATION:Tennishalle TSV Dachau 1865 e.V.\, Alte Römerstraße 45\, Dachau\, Bayern\, 85221\, Germany
ATTACH;FMTTYPE=image/png:https://pingpongplus-puchheim.de/wp-content/uploads/2025/12/bvs100.png
END:VEVENT
END:VCALENDAR