BEGIN:VCALENDAR
VERSION:2.0
PRODID:-//PingPongPlus Puchheim - ECPv6.15.20//NONSGML v1.0//EN
CALSCALE:GREGORIAN
METHOD:PUBLISH
X-WR-CALNAME:PingPongPlus Puchheim
X-ORIGINAL-URL:https://pingpongplus-puchheim.de
X-WR-CALDESC:Veranstaltungen für PingPongPlus Puchheim
REFRESH-INTERVAL;VALUE=DURATION:PT1H
X-Robots-Tag:noindex
X-PUBLISHED-TTL:PT1H
BEGIN:VTIMEZONE
TZID:Europe/Berlin
BEGIN:DAYLIGHT
TZOFFSETFROM:+0100
TZOFFSETTO:+0200
TZNAME:CEST
DTSTART:20250330T010000
END:DAYLIGHT
BEGIN:STANDARD
TZOFFSETFROM:+0200
TZOFFSETTO:+0100
TZNAME:CET
DTSTART:20251026T010000
END:STANDARD
BEGIN:DAYLIGHT
TZOFFSETFROM:+0100
TZOFFSETTO:+0200
TZNAME:CEST
DTSTART:20260329T010000
END:DAYLIGHT
BEGIN:STANDARD
TZOFFSETFROM:+0200
TZOFFSETTO:+0100
TZNAME:CET
DTSTART:20261025T010000
END:STANDARD
BEGIN:DAYLIGHT
TZOFFSETFROM:+0100
TZOFFSETTO:+0200
TZNAME:CEST
DTSTART:20270328T010000
END:DAYLIGHT
BEGIN:STANDARD
TZOFFSETFROM:+0200
TZOFFSETTO:+0100
TZNAME:CET
DTSTART:20271031T010000
END:STANDARD
END:VTIMEZONE
BEGIN:VEVENT
DTSTART;TZID=Europe/Berlin:20260328T080000
DTEND;TZID=Europe/Berlin:20260328T170000
DTSTAMP:20260420T202505
CREATED:20260130T132053Z
LAST-MODIFIED:20260216T133727Z
UID:461-1774684800-1774717200@pingpongplus-puchheim.de
SUMMARY:52. Bayerische Para - Tischtennismeisterschaften im Einzel und Doppel
DESCRIPTION:s. Anlage Teilnahmebedingungen etc. etc. \n\n\n\nAnmeldung
URL:https://pingpongplus-puchheim.de/event/52-bayerische-para-tischtennismeisterschaften-imeinzel-und-doppel/
LOCATION:Bayern
CATEGORIES:Para-Turnier (Breitensport)
END:VEVENT
END:VCALENDAR